BEGIN:VCALENDAR
VERSION:2.0
PRODID:-//Hare Krishna Calendar - ECPv5.1.5//NONSGML v1.0//EN
CALSCALE:GREGORIAN
METHOD:PUBLISH
X-WR-CALNAME:Hare Krishna Calendar
X-ORIGINAL-URL:https://harekrishnacalendar.com
X-WR-CALDESC:Events for Hare Krishna Calendar
BEGIN:VTIMEZONE
TZID:Africa/Abidjan
BEGIN:STANDARD
TZOFFSETFROM:+0000
TZOFFSETTO:+0000
TZNAME:GMT
DTSTART:20250101T000000
END:STANDARD
END:VTIMEZONE
BEGIN:VEVENT
DTSTART;VALUE=DATE:20250412
DTEND;VALUE=DATE:20250413
DTSTAMP:20260423T105252
CREATED:20240412T014041Z
LAST-MODIFIED:20241231T100221Z
UID:5275-1744416000-1744502399@harekrishnacalendar.com
SUMMARY:Appearance Day of Sri Syamananda Prabhu
DESCRIPTION:\n\n\n\nSyamananda Prabhu\, a disciple of Hrdaya Caitanya\, established the temple of Sri Radha-Syamasundara in Vrndavana. \n \n  \nFor:\nDetailed Biography\, Audio Lectures\, Video Lectures\, Bhajans\, Gallery\, etc. of Sri Syamananda Prabhu – www.gaudiyahistory.com\n\n\n\n
URL:https://harekrishnacalendar.com/vaishnava-calendar/appearance-day-of-sri-syamananda-prabhu-2025/
CATEGORIES:Appearance Day
ATTACH;FMTTYPE=image/jpeg:https://harekrishnacalendar.com/wp-content/uploads/2012/09/Appearance-Day-of-Sri-Syamananda-Prabhu2.jpg
END:VEVENT
END:VCALENDAR