BEGIN:VCALENDAR
VERSION:2.0
PRODID:-//Hare Krishna Calendar - ECPv5.1.5//NONSGML v1.0//EN
CALSCALE:GREGORIAN
METHOD:PUBLISH
X-WR-CALNAME:Hare Krishna Calendar
X-ORIGINAL-URL:https://harekrishnacalendar.com
X-WR-CALDESC:Events for Hare Krishna Calendar
BEGIN:VTIMEZONE
TZID:Africa/Abidjan
BEGIN:STANDARD
TZOFFSETFROM:+0000
TZOFFSETTO:+0000
TZNAME:GMT
DTSTART:20240101T000000
END:STANDARD
END:VTIMEZONE
BEGIN:VEVENT
DTSTART;VALUE=DATE:20240603
DTEND;VALUE=DATE:20240604
DTSTAMP:20260422T083700
CREATED:20231226T084014Z
LAST-MODIFIED:20231226T084024Z
UID:9371-1717372800-1717459199@harekrishnacalendar.com
SUMMARY:Appearance Day of Srila Vrndavana Dasa Thakura
DESCRIPTION:\n\n\n\nVrndavana Dasa Thakura was the author of Sri Caitanya Bhagavata\, a great biography of Lord Caitanya Mahaprabhu. He is considered the manifest Vyasadeva of Lord Caitanya’s pastimes.\n \n \n  \nFor:\nDetailed Biography\, Audio Lectures\, Video Lectures\, Bhajans\, Gallery\, etc. of Srila Vrndavana Dasa Thakura – www.gaudiyahistory.com\n\n\n\n  \n
URL:https://harekrishnacalendar.com/vaishnava-calendar/appearance-day-of-srila-vrndavana-dasa-thakura-2024/
CATEGORIES:Appearance Day
ATTACH;FMTTYPE=image/jpeg:https://harekrishnacalendar.com/wp-content/uploads/2023/12/Appearance-Day-of-Srila-Vrndavana-Dasa-Thakura.jpg
END:VEVENT
END:VCALENDAR