BEGIN:VCALENDAR
VERSION:2.0
PRODID:-//Hare Krishna Calendar - ECPv5.1.5//NONSGML v1.0//EN
CALSCALE:GREGORIAN
METHOD:PUBLISH
X-WR-CALNAME:Hare Krishna Calendar
X-ORIGINAL-URL:https://harekrishnacalendar.com
X-WR-CALDESC:Events for Hare Krishna Calendar
BEGIN:VTIMEZONE
TZID:Africa/Abidjan
BEGIN:STANDARD
TZOFFSETFROM:+0000
TZOFFSETTO:+0000
TZNAME:GMT
DTSTART:20170101T000000
END:STANDARD
END:VTIMEZONE
BEGIN:VEVENT
DTSTART;VALUE=DATE:20170604
DTEND;VALUE=DATE:20170605
DTSTAMP:20260424T184353
CREATED:20150811T063504Z
LAST-MODIFIED:20170725T111117Z
UID:5464-1496534400-1496620799@harekrishnacalendar.com
SUMMARY:Appearance Day of Srimati Gangamata Goswami
DESCRIPTION:\n\n\nGangamata Goswami was the daughter of King Naresa Narayana of Bengal. From childhood she showed deep devotion to Krsna.\n \n  \nFor:\nDetailed Biography\, Audio Lectures\, Video Lectures\, etc. of Srimati Gangamata Goswami – www.gaudiyahistory.com\n\n\n\n
URL:https://harekrishnacalendar.com/vaishnava-calendar/appearance-day-of-srimati-gangamata-goswami-2017/
CATEGORIES:Appearance Day
ATTACH;FMTTYPE=image/jpeg:https://harekrishnacalendar.com/wp-content/uploads/2012/09/Appearance-Day-of-Srimati-Gangamata-Goswami.jpg
END:VEVENT
END:VCALENDAR