BEGIN:VCALENDAR
VERSION:2.0
PRODID:-//Hare Krishna Calendar - ECPv5.1.5//NONSGML v1.0//EN
CALSCALE:GREGORIAN
METHOD:PUBLISH
X-WR-CALNAME:Hare Krishna Calendar
X-ORIGINAL-URL:https://harekrishnacalendar.com
X-WR-CALDESC:Events for Hare Krishna Calendar
BEGIN:VTIMEZONE
TZID:Africa/Abidjan
BEGIN:STANDARD
TZOFFSETFROM:+0000
TZOFFSETTO:+0000
TZNAME:GMT
DTSTART:20170101T000000
END:STANDARD
END:VTIMEZONE
BEGIN:VEVENT
DTSTART;VALUE=DATE:20170624
DTEND;VALUE=DATE:20170625
DTSTAMP:20260425T034410
CREATED:20150811T065431Z
LAST-MODIFIED:20170725T111507Z
UID:5473-1498262400-1498348799@harekrishnacalendar.com
SUMMARY:Disappearance Day of Sri Gadadhara Pandita
DESCRIPTION:\n\n\n\nGadadhara Pandita is among the group known as the Panca-tattva. Gadadhara Pandita is considered an incarnation of Srimati Radharani\, the eternal consort of Sri Krsna. \n \n  \nFor:\nDetailed Biography\, Audio Lectures\, Gallery\, etc. of Sri Gadadhara Pandita – www.gaudiyahistory.com\n\n\n\n
URL:https://harekrishnacalendar.com/vaishnava-calendar/disappearance-day-of-sri-gadadhara-pandita-2017/
CATEGORIES:Disappearance Day
ATTACH;FMTTYPE=image/jpeg:https://harekrishnacalendar.com/wp-content/uploads/2012/09/Disappearance-Day-of-Sri-Gadadhara-Dasa-Goswami1.jpg
END:VEVENT
END:VCALENDAR