BEGIN:VCALENDAR
VERSION:2.0
PRODID:-//Hare Krishna Calendar - ECPv5.1.5//NONSGML v1.0//EN
CALSCALE:GREGORIAN
METHOD:PUBLISH
X-WR-CALNAME:Hare Krishna Calendar
X-ORIGINAL-URL:https://harekrishnacalendar.com
X-WR-CALDESC:Events for Hare Krishna Calendar
BEGIN:VTIMEZONE
TZID:Africa/Abidjan
BEGIN:STANDARD
TZOFFSETFROM:+0000
TZOFFSETTO:+0000
TZNAME:GMT
DTSTART:20240101T000000
END:STANDARD
END:VTIMEZONE
BEGIN:VEVENT
DTSTART;VALUE=DATE:20240109
DTEND;VALUE=DATE:20240110
DTSTAMP:20260425T132824
CREATED:20231225T111207Z
LAST-MODIFIED:20231225T111711Z
UID:9082-1704758400-1704844799@harekrishnacalendar.com
SUMMARY:Disappearance Day of Sri Uddharana Datta Thakura
DESCRIPTION:\n\n\n\n Uddharana Datta Thakura\, a dvadasa gopala\, lived in Saptagrama\, a cluster of seven villges. Raised in luxury within a family of gold merchants\, he later married and worked as a wealthy state minister. The place where he once held office is today called Uddharanapura in his honor. \n \nFor:\nDetailed Biography of Sri Uddharana Datta Thakura – www.gaudiyahistory.com\n\n\n\n
URL:https://harekrishnacalendar.com/vaishnava-calendar/disappearance-day-of-sri-uddharana-datta-thakura-2024/
CATEGORIES:Disappearance Day
ATTACH;FMTTYPE=image/jpeg:https://harekrishnacalendar.com/wp-content/uploads/2023/12/Disappearance-Day-of-Sri-Uddharana-Datta-Thakura.jpg
END:VEVENT
END:VCALENDAR