BEGIN:VCALENDAR
VERSION:2.0
PRODID:-//Hare Krishna Calendar - ECPv5.1.5//NONSGML v1.0//EN
CALSCALE:GREGORIAN
METHOD:PUBLISH
X-WR-CALNAME:Hare Krishna Calendar
X-ORIGINAL-URL:https://harekrishnacalendar.com
X-WR-CALDESC:Events for Hare Krishna Calendar
BEGIN:VTIMEZONE
TZID:Africa/Abidjan
BEGIN:STANDARD
TZOFFSETFROM:+0000
TZOFFSETTO:+0000
TZNAME:GMT
DTSTART:20220101T000000
END:STANDARD
END:VTIMEZONE
BEGIN:VEVENT
DTSTART;VALUE=DATE:20221025
DTEND;VALUE=DATE:20221026
DTSTAMP:20260420T225943
CREATED:20191119T062645Z
LAST-MODIFIED:20191119T062756Z
UID:8604-1666656000-1666742399@harekrishnacalendar.com
SUMMARY:Dipa Dana\, Dipavali\, (Kali Puja)
DESCRIPTION:\n\n\n\n\n					Dipa-dan\, Dipavali\, or Diwali (and Kalipuja) is a commemoration of Lord Rama’s return from exile to Ayodhya\, His capital\, following the defeat of the demon Ravana. (Vaisnavas don’t regularly observe Kalipuja\, the worship of Durga Devi.)\n				 \n\n\n\n\n
URL:https://harekrishnacalendar.com/vaishnava-calendar/dipa-dana-dipavali-kali-puja-2022/
CATEGORIES:Major Festivals
ATTACH;FMTTYPE=image/jpeg:https://harekrishnacalendar.com/wp-content/uploads/2019/11/Dipa-Dana-Dipavali-Kali-Puja.jpg
END:VEVENT
END:VCALENDAR