BEGIN:VCALENDAR
VERSION:2.0
PRODID:-//Hare Krishna Calendar - ECPv5.1.5//NONSGML v1.0//EN
CALSCALE:GREGORIAN
METHOD:PUBLISH
X-WR-CALNAME:Hare Krishna Calendar
X-ORIGINAL-URL:https://harekrishnacalendar.com
X-WR-CALDESC:Events for Hare Krishna Calendar
BEGIN:VTIMEZONE
TZID:Africa/Abidjan
BEGIN:STANDARD
TZOFFSETFROM:+0000
TZOFFSETTO:+0000
TZNAME:GMT
DTSTART:20230101T000000
END:STANDARD
END:VTIMEZONE
BEGIN:VEVENT
DTSTART;VALUE=DATE:20230623
DTEND;VALUE=DATE:20230624
DTSTAMP:20260425T200846
CREATED:20191019T082214Z
LAST-MODIFIED:20191019T082444Z
UID:8129-1687478400-1687564799@harekrishnacalendar.com
SUMMARY:Hera Pancami
DESCRIPTION:\n\n\n\n\n					A festival held three days after Ratha-yatra to commemorate Srimati Rukmini Devi’s visit to Vrndavana to bring Lord Krsna back to Dvaraka.\n				 \n\n\n\n\n
URL:https://harekrishnacalendar.com/vaishnava-calendar/hera-pancami-2023/
CATEGORIES:Other Festivals
ATTACH;FMTTYPE=image/jpeg:https://harekrishnacalendar.com/wp-content/uploads/2019/10/Hera-Pancami.jpg
END:VEVENT
END:VCALENDAR