BEGIN:VCALENDAR
VERSION:2.0
PRODID:-//Hare Krishna Calendar - ECPv5.1.5//NONSGML v1.0//EN
CALSCALE:GREGORIAN
METHOD:PUBLISH
X-WR-CALNAME:Hare Krishna Calendar
X-ORIGINAL-URL:https://harekrishnacalendar.com
X-WR-CALDESC:Events for Hare Krishna Calendar
BEGIN:VTIMEZONE
TZID:Africa/Abidjan
BEGIN:STANDARD
TZOFFSETFROM:+0000
TZOFFSETTO:+0000
TZNAME:GMT
DTSTART:20230101T000000
END:STANDARD
END:VTIMEZONE
BEGIN:VEVENT
DTSTART;VALUE=DATE:20230624
DTEND;VALUE=DATE:20230625
DTSTAMP:20260423T084042
CREATED:20191019T085935Z
LAST-MODIFIED:20191019T090116Z
UID:8137-1687564800-1687651199@harekrishnacalendar.com
SUMMARY:Disappearance Day of Sri Vakresvara Pandita
DESCRIPTION:\n\n\n\nVakresvara Pandita is mentioned in Sri Caitanya-caritamrta for his ecstatic dancing. Once\, in the house of Srivasa Thakura\, he danced in constant ecstasy for seventy-two hours.\n \n \n  \nFor:\nDetailed Biography\, Audio Lectures\, Video Lectures\, Gallery\, etc. of Sri Vakresvara Pandita – www.gaudiyahistory.com\n\n\n\n  \n
URL:https://harekrishnacalendar.com/vaishnava-calendar/disappearance-day-of-sri-vakresvara-pandita-2023/
CATEGORIES:Disappearance Day
ATTACH;FMTTYPE=image/jpeg:https://harekrishnacalendar.com/wp-content/uploads/2019/10/Disppearance-Day-of-Sri-Vakresvara-Pandita.jpg
END:VEVENT
END:VCALENDAR