BEGIN:VCALENDAR
VERSION:2.0
PRODID:-//Hare Krishna Calendar - ECPv5.1.5//NONSGML v1.0//EN
CALSCALE:GREGORIAN
METHOD:PUBLISH
X-WR-CALNAME:Hare Krishna Calendar
X-ORIGINAL-URL:https://harekrishnacalendar.com
X-WR-CALDESC:Events for Hare Krishna Calendar
BEGIN:VTIMEZONE
TZID:Africa/Abidjan
BEGIN:STANDARD
TZOFFSETFROM:+0000
TZOFFSETTO:+0000
TZNAME:GMT
DTSTART:20260101T000000
END:STANDARD
END:VTIMEZONE
BEGIN:VEVENT
DTSTART;VALUE=DATE:20260402
DTEND;VALUE=DATE:20260403
DTSTAMP:20260426T000659
CREATED:20251226T050153Z
LAST-MODIFIED:20251226T050206Z
UID:10139-1775088000-1775174399@harekrishnacalendar.com
SUMMARY:Sri Balarama Rasayatra
DESCRIPTION:\n\n\n\n\n					Lord Balarama’s springtime rasa dance with His cowherd girlfriends. Krsna performs rasa lila of two varieties\, one in the autumn season and one in the spring season\, on vaisakha purnima.\n				 \n\n					\n				 \n\n					Balarama also performs rasa dance at this time. In order to keep the gopis in Vrndavana satisfied\, Lord Balarama stayed there continually for two months\, namely the months of Caitra and Vaisakha. For those two months he kept himself among the gopis and he passed every night with them in the forest of Vrndavana in order to satisfy their desire for conjugal love. Thus Balarama also enjoyed the rasa dance with the gopis during those two months.\n				 \n\n\n\n\n
URL:https://harekrishnacalendar.com/vaishnava-calendar/sri-balarama-rasayatra-2026/
CATEGORIES:Major Festivals
ATTACH;FMTTYPE=image/jpeg:https://harekrishnacalendar.com/wp-content/uploads/2023/12/Sri-Balarama-Rasayatra.jpg
END:VEVENT
BEGIN:VEVENT
DTSTART;VALUE=DATE:20260402
DTEND;VALUE=DATE:20260403
DTSTAMP:20260426T000659
CREATED:20251226T050356Z
LAST-MODIFIED:20251226T050412Z
UID:10141-1775088000-1775174399@harekrishnacalendar.com
SUMMARY:Sri Krishna Vasanta Rasa
DESCRIPTION:\n\n\n\n\n					Lord Krishna’s springtime rasa dance. The purnima or full moon of Damodara month is the second full moon of the autumn season\, and rasa lila is again celebrated. \n				 \n\n					\n				 \n\n					This second rasa yatra is celebrated more in Bengal\, whereas the first one is celebrated more in Vrndavana. On this day one should perform full worship of Radha and Krsna with many flowers\, and place them in a rasa mandapa surrounded by the gopis. Sri Krishna Vasant Rasa is similar excepting that it is in the Spring (Vasant)\, at this time everyone dresses in yellow. On this full moon night the devotees usually leave out pots of sweet rice payasam for the Lord to enjoy during His rasas.\n				 \n\n\n\n\n
URL:https://harekrishnacalendar.com/vaishnava-calendar/sri-krishna-vasanta-rasa-2026/
CATEGORIES:Major Festivals
ATTACH;FMTTYPE=image/jpeg:https://harekrishnacalendar.com/wp-content/uploads/2023/12/Sri-Krishna-Vasanta-Rasa.jpg
END:VEVENT
BEGIN:VEVENT
DTSTART;VALUE=DATE:20260402
DTEND;VALUE=DATE:20260403
DTSTAMP:20260426T000659
CREATED:20251226T050602Z
LAST-MODIFIED:20251226T050801Z
UID:10143-1775088000-1775174399@harekrishnacalendar.com
SUMMARY:Appearance Day of Sri Vamsivadana Thakura
DESCRIPTION:\n\n\nSri Vamsivadananda Thakura Appearance Day. Vamsivadananda Thakura wrote many sweet poems expressing his devotion to Krsna. \n\n  \n  \nFor: \nDetailed Biography\, Audio Lectures\, Video Lectures\, Bhajans\, Gallery\, etc. of Sri Vamsivadananda Thakura – www.gaudiyahistory.com\n\n\n\n
URL:https://harekrishnacalendar.com/vaishnava-calendar/appearance-day-of-sri-vamsivadana-thakura-2026/
CATEGORIES:Appearance Day
ATTACH;FMTTYPE=image/jpeg:https://harekrishnacalendar.com/wp-content/uploads/2023/12/Appearance-Day-of-Sri-Vamsivadana-Thakura.jpg
END:VEVENT
BEGIN:VEVENT
DTSTART;VALUE=DATE:20260402
DTEND;VALUE=DATE:20260403
DTSTAMP:20260426T000659
CREATED:20251226T050918Z
LAST-MODIFIED:20251226T050918Z
UID:10145-1775088000-1775174399@harekrishnacalendar.com
SUMMARY:Appearance Day of Sri Syamananda Prabhu
DESCRIPTION:\n\n\n\nSyamananda Prabhu\, a disciple of Hrdaya Caitanya\, established the temple of Sri Radha-Syamasundara in Vrndavana. \n \n  \nFor:\nDetailed Biography\, Audio Lectures\, Video Lectures\, Bhajans\, Gallery\, etc. of Sri Syamananda Prabhu – www.gaudiyahistory.com\n\n\n\n
URL:https://harekrishnacalendar.com/vaishnava-calendar/appearance-day-of-sri-syamananda-prabhu-2/
CATEGORIES:Appearance Day
ATTACH;FMTTYPE=image/jpeg:https://harekrishnacalendar.com/wp-content/uploads/2023/12/Appearance-Day-of-Sri-Syamananda-Prabhu.jpg
END:VEVENT
END:VCALENDAR