BEGIN:VCALENDAR
VERSION:2.0
PRODID:-//Hare Krishna Calendar - ECPv5.1.5//NONSGML v1.0//EN
CALSCALE:GREGORIAN
METHOD:PUBLISH
X-WR-CALNAME:Hare Krishna Calendar
X-ORIGINAL-URL:https://harekrishnacalendar.com
X-WR-CALDESC:Events for Hare Krishna Calendar
BEGIN:VTIMEZONE
TZID:Africa/Abidjan
BEGIN:STANDARD
TZOFFSETFROM:+0000
TZOFFSETTO:+0000
TZNAME:GMT
DTSTART:20250101T000000
END:STANDARD
END:VTIMEZONE
BEGIN:VEVENT
DTSTART;VALUE=DATE:20250719
DTEND;VALUE=DATE:20250720
DTSTAMP:20260425T172424
CREATED:20240719T013627Z
LAST-MODIFIED:20241231T093926Z
UID:5323-1752883200-1752969599@harekrishnacalendar.com
SUMMARY:The Incorporation of ISKCON in New York
DESCRIPTION:\n\n\n\n\n					Srila Prabhupada founded ISKCON\, the International Society for Krishna Consciousness\, in 1966.\n				 \n\n\n\n\n
URL:https://harekrishnacalendar.com/vaishnava-calendar/the-incorporation-of-iskcon-in-new-york-2025/
CATEGORIES:Other Festivals
ATTACH;FMTTYPE=image/jpeg:https://harekrishnacalendar.com/wp-content/uploads/2012/09/The-Incorporation-of-ISKCON-in-New-York2.jpg
END:VEVENT
END:VCALENDAR