BEGIN:VCALENDAR
VERSION:2.0
PRODID:-//Hare Krishna Calendar - ECPv5.1.5//NONSGML v1.0//EN
CALSCALE:GREGORIAN
METHOD:PUBLISH
X-WR-CALNAME:Hare Krishna Calendar
X-ORIGINAL-URL:https://harekrishnacalendar.com
X-WR-CALDESC:Events for Hare Krishna Calendar
BEGIN:VTIMEZONE
TZID:Africa/Abidjan
BEGIN:STANDARD
TZOFFSETFROM:+0000
TZOFFSETTO:+0000
TZNAME:GMT
DTSTART:20250101T000000
END:STANDARD
END:VTIMEZONE
BEGIN:VEVENT
DTSTART;VALUE=DATE:20251007
DTEND;VALUE=DATE:20251008
DTSTAMP:20260423T095757
CREATED:20241201T014039Z
LAST-MODIFIED:20241231T092944Z
UID:5510-1759795200-1759881599@harekrishnacalendar.com
SUMMARY:Sri Krsna Saradiya Rasayatra
DESCRIPTION:\n\n\n\nLord Krsna’s autumn rasa dance with His girlfriends. \n\n\n\n\n
URL:https://harekrishnacalendar.com/vaishnava-calendar/sri-krsna-saradiya-rasayatra-2025-2/
CATEGORIES:Other Festivals
ATTACH;FMTTYPE=image/jpeg:https://harekrishnacalendar.com/wp-content/uploads/2012/09/Sri-Krsna-Saradiya-Rasayatra2.jpg
END:VEVENT
BEGIN:VEVENT
DTSTART;VALUE=DATE:20251007
DTEND;VALUE=DATE:20251008
DTSTAMP:20260423T095757
CREATED:20241201T014056Z
LAST-MODIFIED:20241231T092936Z
UID:5346-1759795200-1759881599@harekrishnacalendar.com
SUMMARY:Laksmi Puja
DESCRIPTION:\n\n\n\n\n					Laksmi Puja means worship of Laksmi Devi\, the consort of Lord Visnu  Goddess Laxmi is said to have emerged from the ocean of milk at Diwali. On that day\, Laxmi puja was performed to honour Her and as such\, every year at Diwali\, She is worshipped and offered prayers (not observed by Gaudiya Vaisnavas).\n				 \n\n\n\n\n
URL:https://harekrishnacalendar.com/vaishnava-calendar/laksmi-puja-2025/
CATEGORIES:Other Festivals
ATTACH;FMTTYPE=image/jpeg:https://harekrishnacalendar.com/wp-content/uploads/2012/09/Laksmi-Puja.jpg
END:VEVENT
END:VCALENDAR