BEGIN:VCALENDAR
VERSION:2.0
PRODID:-//Hare Krishna Calendar - ECPv5.1.5//NONSGML v1.0//EN
CALSCALE:GREGORIAN
METHOD:PUBLISH
X-WR-CALNAME:Hare Krishna Calendar
X-ORIGINAL-URL:https://harekrishnacalendar.com
X-WR-CALDESC:Events for Hare Krishna Calendar
BEGIN:VTIMEZONE
TZID:Africa/Abidjan
BEGIN:STANDARD
TZOFFSETFROM:+0000
TZOFFSETTO:+0000
TZNAME:GMT
DTSTART:20250101T000000
END:STANDARD
END:VTIMEZONE
BEGIN:VEVENT
DTSTART;VALUE=DATE:20251022
DTEND;VALUE=DATE:20251023
DTSTAMP:20260423T063822
CREATED:20241201T014015Z
LAST-MODIFIED:20241231T092822Z
UID:5356-1761091200-1761177599@harekrishnacalendar.com
SUMMARY:Bali Daityaraja Puja
DESCRIPTION:\n\n\n\n\n					The festival commemorating Bali Maharaja’s surrender to Lord Vamanadeva\, the dwarf incarnation of Lord Krsna. A Deity of Vamana is worshiped.\n				 \n\n\n\n\n
URL:https://harekrishnacalendar.com/vaishnava-calendar/bali-daityaraja-puja-2025/
CATEGORIES:Other Festivals
ATTACH;FMTTYPE=image/jpeg:https://harekrishnacalendar.com/wp-content/uploads/2012/09/Bali-Daityaraja-Puja.jpg
END:VEVENT
END:VCALENDAR