BEGIN:VCALENDAR
VERSION:2.0
PRODID:-//Hare Krishna Calendar - ECPv5.1.5//NONSGML v1.0//EN
CALSCALE:GREGORIAN
METHOD:PUBLISH
X-WR-CALNAME:Hare Krishna Calendar
X-ORIGINAL-URL:https://harekrishnacalendar.com
X-WR-CALDESC:Events for Hare Krishna Calendar
BEGIN:VTIMEZONE
TZID:Africa/Abidjan
BEGIN:STANDARD
TZOFFSETFROM:+0000
TZOFFSETTO:+0000
TZNAME:GMT
DTSTART:20250101T000000
END:STANDARD
END:VTIMEZONE
BEGIN:VEVENT
DTSTART;VALUE=DATE:20251105
DTEND;VALUE=DATE:20251106
DTSTAMP:20260423T050825
CREATED:20241201T014045Z
LAST-MODIFIED:20241231T092553Z
UID:5345-1762300800-1762387199@harekrishnacalendar.com
SUMMARY:Sri Krsna Saradiya Rasayatra
DESCRIPTION:\n\n\n\nLord Krsna’s autumn rasa dance with His girlfriends. \n\n\n\n\n
URL:https://harekrishnacalendar.com/vaishnava-calendar/sri-krsna-saradiya-rasayatra-2025/
CATEGORIES:Other Festivals
ATTACH;FMTTYPE=image/jpeg:https://harekrishnacalendar.com/wp-content/uploads/2012/09/Sri-Krsna-Saradiya-Rasayatra2.jpg
END:VEVENT
BEGIN:VEVENT
DTSTART;VALUE=DATE:20251105
DTEND;VALUE=DATE:20251106
DTSTAMP:20260423T050825
CREATED:20241201T014053Z
LAST-MODIFIED:20241231T092543Z
UID:5210-1762300800-1762387199@harekrishnacalendar.com
SUMMARY:Last Day of Caturmasya
DESCRIPTION:\n\n\n\n\n					End of Caturmasya\n				 \n\n\n\n\n
URL:https://harekrishnacalendar.com/vaishnava-calendar/last-day-of-caturmasya-2025/
CATEGORIES:Other Festivals
ATTACH;FMTTYPE=image/jpeg:https://harekrishnacalendar.com/wp-content/uploads/2012/09/Last-Day-of-Caturmasya1.jpg
END:VEVENT
END:VCALENDAR